BEGIN:VCALENDAR
VERSION:2.0
PRODID:-//Canadian Association for Supported Employment - ECPv6.15.13//NONSGML v1.0//EN
CALSCALE:GREGORIAN
METHOD:PUBLISH
X-WR-CALNAME:Canadian Association for Supported Employment
X-ORIGINAL-URL:https://www.supportedemployment.ca
X-WR-CALDESC:Events for Canadian Association for Supported Employment
REFRESH-INTERVAL;VALUE=DURATION:PT1H
X-Robots-Tag:noindex
X-PUBLISHED-TTL:PT1H
BEGIN:VTIMEZONE
TZID:America/New_York
BEGIN:DAYLIGHT
TZOFFSETFROM:-0500
TZOFFSETTO:-0400
TZNAME:EDT
DTSTART:20250309T070000
END:DAYLIGHT
BEGIN:STANDARD
TZOFFSETFROM:-0400
TZOFFSETTO:-0500
TZNAME:EST
DTSTART:20251102T060000
END:STANDARD
BEGIN:DAYLIGHT
TZOFFSETFROM:-0500
TZOFFSETTO:-0400
TZNAME:EDT
DTSTART:20260308T070000
END:DAYLIGHT
BEGIN:STANDARD
TZOFFSETFROM:-0400
TZOFFSETTO:-0500
TZNAME:EST
DTSTART:20261101T060000
END:STANDARD
BEGIN:DAYLIGHT
TZOFFSETFROM:-0500
TZOFFSETTO:-0400
TZNAME:EDT
DTSTART:20270314T070000
END:DAYLIGHT
BEGIN:STANDARD
TZOFFSETFROM:-0400
TZOFFSETTO:-0500
TZNAME:EST
DTSTART:20271107T060000
END:STANDARD
BEGIN:DAYLIGHT
TZOFFSETFROM:-0500
TZOFFSETTO:-0400
TZNAME:EDT
DTSTART:20280312T070000
END:DAYLIGHT
BEGIN:STANDARD
TZOFFSETFROM:-0400
TZOFFSETTO:-0500
TZNAME:EST
DTSTART:20281105T060000
END:STANDARD
END:VTIMEZONE
BEGIN:VTIMEZONE
TZID:America/Detroit
BEGIN:DAYLIGHT
TZOFFSETFROM:-0500
TZOFFSETTO:-0400
TZNAME:EDT
DTSTART:20250309T070000
END:DAYLIGHT
BEGIN:STANDARD
TZOFFSETFROM:-0400
TZOFFSETTO:-0500
TZNAME:EST
DTSTART:20251102T060000
END:STANDARD
BEGIN:DAYLIGHT
TZOFFSETFROM:-0500
TZOFFSETTO:-0400
TZNAME:EDT
DTSTART:20260308T070000
END:DAYLIGHT
BEGIN:STANDARD
TZOFFSETFROM:-0400
TZOFFSETTO:-0500
TZNAME:EST
DTSTART:20261101T060000
END:STANDARD
BEGIN:DAYLIGHT
TZOFFSETFROM:-0500
TZOFFSETTO:-0400
TZNAME:EDT
DTSTART:20270314T070000
END:DAYLIGHT
BEGIN:STANDARD
TZOFFSETFROM:-0400
TZOFFSETTO:-0500
TZNAME:EST
DTSTART:20271107T060000
END:STANDARD
END:VTIMEZONE
BEGIN:VTIMEZONE
TZID:America/Toronto
BEGIN:DAYLIGHT
TZOFFSETFROM:-0500
TZOFFSETTO:-0400
TZNAME:EDT
DTSTART:20250309T070000
END:DAYLIGHT
BEGIN:STANDARD
TZOFFSETFROM:-0400
TZOFFSETTO:-0500
TZNAME:EST
DTSTART:20251102T060000
END:STANDARD
BEGIN:DAYLIGHT
TZOFFSETFROM:-0500
TZOFFSETTO:-0400
TZNAME:EDT
DTSTART:20260308T070000
END:DAYLIGHT
BEGIN:STANDARD
TZOFFSETFROM:-0400
TZOFFSETTO:-0500
TZNAME:EST
DTSTART:20261101T060000
END:STANDARD
BEGIN:DAYLIGHT
TZOFFSETFROM:-0500
TZOFFSETTO:-0400
TZNAME:EDT
DTSTART:20270314T070000
END:DAYLIGHT
BEGIN:STANDARD
TZOFFSETFROM:-0400
TZOFFSETTO:-0500
TZNAME:EST
DTSTART:20271107T060000
END:STANDARD
END:VTIMEZONE
BEGIN:VEVENT
DTSTART;TZID=America/New_York:20260204T120000
DTEND;TZID=America/New_York:20260331T170000
DTSTAMP:20260421T121553
CREATED:20250122T181433Z
LAST-MODIFIED:20251119T220521Z
UID:10000067-1770206400-1774976400@www.supportedemployment.ca
SUMMARY:Supported Employment Essentials
DESCRIPTION:This certificate program allows those new to the field of supported employment\, as well as experienced practitioners\, to build their skills and competence. Each of the eight modules is rooted in emerging best practices and features live webinars\, readings\, case studies\, open discussion forums\, and concrete learning activities that promote critical thinking.
URL:https://www.supportedemployment.ca/event/start-date-supported-employment-essentials-3/2026-02-04/
LOCATION:Virtual
ORGANIZER;CN="Learning and Development":MAILTO:learn@supportedemployment.ca
END:VEVENT
BEGIN:VEVENT
DTSTART;TZID=America/New_York:20260209T120000
DTEND;TZID=America/New_York:20260405T170000
DTSTAMP:20260421T121553
CREATED:20250122T181433Z
LAST-MODIFIED:20251119T220521Z
UID:10000068-1770638400-1775408400@www.supportedemployment.ca
SUMMARY:Supported Employment Essentials
DESCRIPTION:This certificate program allows those new to the field of supported employment\, as well as experienced practitioners\, to build their skills and competence. Each of the eight modules is rooted in emerging best practices and features live webinars\, readings\, case studies\, open discussion forums\, and concrete learning activities that promote critical thinking.
URL:https://www.supportedemployment.ca/event/start-date-supported-employment-essentials-3/2026-02-09/
LOCATION:Virtual
ORGANIZER;CN="Learning and Development":MAILTO:learn@supportedemployment.ca
END:VEVENT
BEGIN:VEVENT
DTSTART;TZID=America/New_York:20260211T120000
DTEND;TZID=America/New_York:20260407T170000
DTSTAMP:20260421T121553
CREATED:20250122T181433Z
LAST-MODIFIED:20251119T220521Z
UID:10000069-1770811200-1775581200@www.supportedemployment.ca
SUMMARY:Supported Employment Essentials
DESCRIPTION:This certificate program allows those new to the field of supported employment\, as well as experienced practitioners\, to build their skills and competence. Each of the eight modules is rooted in emerging best practices and features live webinars\, readings\, case studies\, open discussion forums\, and concrete learning activities that promote critical thinking.
URL:https://www.supportedemployment.ca/event/start-date-supported-employment-essentials-3/2026-02-11/
LOCATION:Virtual
ORGANIZER;CN="Learning and Development":MAILTO:learn@supportedemployment.ca
END:VEVENT
BEGIN:VEVENT
DTSTART;TZID=America/New_York:20260216T120000
DTEND;TZID=America/New_York:20260412T170000
DTSTAMP:20260421T121553
CREATED:20250122T181433Z
LAST-MODIFIED:20251119T220521Z
UID:10000070-1771243200-1776013200@www.supportedemployment.ca
SUMMARY:Supported Employment Essentials
DESCRIPTION:This certificate program allows those new to the field of supported employment\, as well as experienced practitioners\, to build their skills and competence. Each of the eight modules is rooted in emerging best practices and features live webinars\, readings\, case studies\, open discussion forums\, and concrete learning activities that promote critical thinking.
URL:https://www.supportedemployment.ca/event/start-date-supported-employment-essentials-3/2026-02-16/
LOCATION:Virtual
ORGANIZER;CN="Learning and Development":MAILTO:learn@supportedemployment.ca
END:VEVENT
BEGIN:VEVENT
DTSTART;TZID=America/New_York:20260218T120000
DTEND;TZID=America/New_York:20260414T170000
DTSTAMP:20260421T121553
CREATED:20250122T181433Z
LAST-MODIFIED:20251119T220521Z
UID:10000071-1771416000-1776186000@www.supportedemployment.ca
SUMMARY:Supported Employment Essentials
DESCRIPTION:This certificate program allows those new to the field of supported employment\, as well as experienced practitioners\, to build their skills and competence. Each of the eight modules is rooted in emerging best practices and features live webinars\, readings\, case studies\, open discussion forums\, and concrete learning activities that promote critical thinking.
URL:https://www.supportedemployment.ca/event/start-date-supported-employment-essentials-3/2026-02-18/
LOCATION:Virtual
ORGANIZER;CN="Learning and Development":MAILTO:learn@supportedemployment.ca
END:VEVENT
BEGIN:VEVENT
DTSTART;TZID=America/New_York:20260223T120000
DTEND;TZID=America/New_York:20260419T170000
DTSTAMP:20260421T121553
CREATED:20250122T181433Z
LAST-MODIFIED:20251119T220521Z
UID:10000072-1771848000-1776618000@www.supportedemployment.ca
SUMMARY:Supported Employment Essentials
DESCRIPTION:This certificate program allows those new to the field of supported employment\, as well as experienced practitioners\, to build their skills and competence. Each of the eight modules is rooted in emerging best practices and features live webinars\, readings\, case studies\, open discussion forums\, and concrete learning activities that promote critical thinking.
URL:https://www.supportedemployment.ca/event/start-date-supported-employment-essentials-3/2026-02-23/
LOCATION:Virtual
ORGANIZER;CN="Learning and Development":MAILTO:learn@supportedemployment.ca
END:VEVENT
BEGIN:VEVENT
DTSTART;TZID=America/Detroit:20260312T133000
DTEND;TZID=America/Detroit:20260312T150000
DTSTAMP:20260421T121553
CREATED:20260227T192015Z
LAST-MODIFIED:20260227T194821Z
UID:10000080-1773322200-1773327600@www.supportedemployment.ca
SUMMARY:Introduction to Neurodiversity at Work: Building Neuro-Inclusive Workplaces
DESCRIPTION:Join Autism@Work for Introduction to Neurodiversity at Work – Building Neuro-Inclusive Workplaces. . \nGrounded in an internationally recognized model and aligned with Canada’s Autism Strategy and Disability Inclusion Action Plan\, this session helps participants move beyond awareness into practical\, transferable inclusion competencies that support talent attraction\, retention\, and workforce sustainability. \nThis session is ideal for HR professionals\, supervisors\, and organizations seeking to strengthen workplace equity\, psychological safety\, and inclusive workforce development.
URL:https://www.supportedemployment.ca/event/introduction-to-neurodiversity-at-work-building-neuro-inclusive-workplaces/
END:VEVENT
BEGIN:VEVENT
DTSTART;TZID=America/Toronto:20260602T130000
DTEND;TZID=America/Toronto:20260602T170000
DTSTAMP:20260421T121553
CREATED:20260408T172017Z
LAST-MODIFIED:20260408T172017Z
UID:10000081-1780405200-1780419600@www.supportedemployment.ca
SUMMARY:Building an Accessible Canada: Ideas\, Impact\, and Innovation
DESCRIPTION:Funded by the Government of Canada through a 2-year National AccessAbility Week Grant\, Building an Accessible Canada: Ideas\, Impact\, and Innovation is a free national virtual conference hosted by Easter Seals Canada in partnership with the Canadian Council on Rehabilitation and Work (CCRW) and Indigenous Disability Canada / BCANDS. \nThe event takes place on June 2\, 2026\, from 1:00 p.m. to 5:00 p.m. (ET) and brings together a rich cross‑section of leaders\, advocates\, and community members from across Canada to explore what accessibility looks like across Canada today\, and what it can become. \nJoin us online for a series of thought-provoking and engaging discussion panels all about creating a more accessible Canada. This free virtual conference features a variety of Canadian experts in the disability community – those with lived experience and others dedicated to increasing accessibility and inclusion. Topics include:\nHousing & Accessible Design\nEmployment & Artificial Intelligence\nSport & Leisure\nBuy Canadian (Procurement) \nAccessibility features to include captioning (English and French)\, as well as ASL and LSQ interpretation. Conference will be recorded for viewing on demand. \nRegistration link: https://www.eventbrite.ca/e/building-an-accessible-canada-batir-un-canada-accessible-tickets-198290…
URL:https://www.supportedemployment.ca/event/building-an-accessible-canada-ideas-impact-and-innovation/
LOCATION:Virtual
ATTACH;FMTTYPE=image/png:https://www.supportedemployment.ca/wp-content/uploads/2026/04/undefined.png
END:VEVENT
BEGIN:VEVENT
DTSTART;TZID=America/Detroit:20260609T080000
DTEND;TZID=America/Detroit:20260811T170000
DTSTAMP:20260421T121553
CREATED:20260421T115018Z
LAST-MODIFIED:20260421T115018Z
UID:10000082-1780992000-1786467600@www.supportedemployment.ca
SUMMARY:31st Annual National Supported Employment Conference: From Insight to Action: Driving Equity in Employment
DESCRIPTION:Join CASE\, CCRW\, ODEN and delegates from across Canada for the 31st Annual National Supported Employment Conference! \nWe will gather in person at the Westin Ottawa in Ottawa\, Ontario\, from June 9 to June 11\, 2026. \nThe Annual Conference brings together employment service providers\, employers\, community partners\, and other allies to celebrate and to advance employment inclusion of persons experiencing disability. \nThrough sessions and workshops led by leaders and innovators in the field of supported employment\, we will explore shared best practices\, innovative solutions to common challenges\, the latest trends and research findings\, and opportunities for networking and community building. \nThis conference will be of interest to: \nEmployers and business leaders with a national or provincial presence\nEmployment service providers\nHR professionals and diversity and inclusion specialists\nEmployment counsellors and case managers\nRepresentatives from public\, private\, and non-profit sectors\nGovernment officials and policymakers (federal\, provincial\, municipal)\nEducation and training leaders\nLabour and union representatives\nPersons with lived experience of disability working in the sector\nDisability advocates\nand anyone else interested in employment inclusion for persons experiencing disability!
URL:https://www.supportedemployment.ca/event/31st-annual-national-supported-employment-conference-from-insight-to-action-driving-equity-in-employment/
ATTACH;FMTTYPE=image/jpeg:https://www.supportedemployment.ca/wp-content/uploads/2026/04/Conference-website-image-2026-3-smaller.jpg
ORGANIZER;CN="CASE":MAILTO:contact@supportedemployment.ca
END:VEVENT
BEGIN:VEVENT
DTSTART;TZID=America/New_York:20260914T120000
DTEND;TZID=America/New_York:20270117T170000
DTSTAMP:20260421T121553
CREATED:20260420T221736Z
LAST-MODIFIED:20260420T221737Z
UID:10000073-1789387200-1800205200@www.supportedemployment.ca
SUMMARY:Supported Employment Essentials
DESCRIPTION:This certificate program allows those new to the field of supported employment\, as well as experienced practitioners\, to build their skills and competence. Each of the eight modules is rooted in emerging best practices and features live webinars\, readings\, case studies\, open discussion forums\, and concrete learning activities that promote critical thinking.
URL:https://www.supportedemployment.ca/event/start-date-supported-employment-essentials-3-2/2026-09-14/
LOCATION:Virtual
ORGANIZER;CN="Learning and Development":MAILTO:learn@supportedemployment.ca
END:VEVENT
END:VCALENDAR